BEGIN:VCALENDAR
VERSION:2.0
PRODID:DPCALENDAR
CALSCALE:GREGORIAN
BEGIN:VTIMEZONE
TZID:Europe/Berlin
X-MICROSOFT-CDO-TZID:4
BEGIN:STANDARD
DTSTART:20251026T010000
TZOFFSETFROM:+0200
TZOFFSETTO:+0100
TZNAME:CET
END:STANDARD
BEGIN:STANDARD
DTSTART:20261025T010000
TZOFFSETFROM:+0200
TZOFFSETTO:+0100
TZNAME:CET
END:STANDARD
BEGIN:DAYLIGHT
DTSTART:20260329T010000
TZOFFSETFROM:+0100
TZOFFSETTO:+0200
TZNAME:CEST
END:DAYLIGHT
END:VTIMEZONE
X-WR-TIMEZONE:Europe/Berlin
BEGIN:VEVENT
DTSTART;TZID=Europe/Berlin:20181031T193000
DTEND;TZID=Europe/Berlin:20181031T220000
UID:2C0A230E-46A0-4C00-823F-F648C7D4ED4F
SUMMARY:Herbstversammlung
DTSTAMP:20180613T082501Z
DESCRIPTION:Imkerverein Herford trifft sich\NAm Mittwoch, den 31.10.2018 um 19:30 Uhr trifft sich der Imkerverein Herford im Saal des Restaurant Mythos an der Mindener Straße 132 in Herford zur Herbstversammlung. Erfahrungsaustausch und Ratschläge zu aktuellen Bienenthemen.\NDas Bienenjahr ist vorbei. Die Bienenbeuten müssen jetzt sturm- und winterfest gemacht werden. Gitter werden zum Schutz vor Mäusen in die Fluglöcher eingesetzt. Letzte alte Waben werden eingeschmolzen, Wachs und Rähmchen gereinigt. Die Vorbereitung für das nächste Jahr beginnt. Zeit für ein Resümee des vergangenen Jahres. Wie war das Jahr? Völkerzahlen und Honigertrag werden ermittelt.\NInteressenten und (angehende) Neuimker sind herzlich eingeladen.
X-ALT-DESC;FMTTYPE=text/html:<p style="margin: 0px;"><b><span style="margin: 0px; color: #666666; font-family: 'Arial',sans-serif; font-size: 12pt;">Imkerverein Herford trifft sich</span></b></p><p style="margin: 0px; line-height: 11.85pt;"><span style="margin: 0px; color: #333333; font-family: 'Tahoma',sans-serif; font-size: 9pt;">Am Mittwoch, den 31.10.2018 um 19:30 Uhr trifft sich der Imkerverein Herford im Saal des Restaurant Mythos an der Mindener Straße 132 in Herford zur Herbstversammlung. Erfahrungsaustausch und Ratschläge zu aktuellen Bienenthemen.</span></p><p style="margin: 0px; line-height: 11.85pt;"><span style="margin: 0px; color: #333333; font-family: 'Tahoma',sans-serif; font-size: 9pt;">Das Bienenjahr ist vorbei. Die Bienenbeuten müssen jetzt sturm- und winterfest gemacht werden. Gitter werden zum Schutz vor Mäusen in die Fluglöcher eingesetzt. Letzte alte Waben werden eingeschmolzen, Wachs und Rähmchen gereinigt. Die Vorbereitung für das nächste Jahr beginnt. Zeit für ein Resümee des vergangenen Jahres. Wie war das Jahr? Völkerzahlen und Honigertrag werden ermittelt.</span></p><p style="margin: 0px; line-height: 11.85pt;"><span style="margin: 0px; color: #333333; font-family: 'Tahoma',sans-serif; font-size: 9pt;">Interessenten und (angehende) Neuimker sind herzlich eingeladen.</span></p>
LOCATION:Mindener Straße 132\, 32049 Herford\, Nordrhein Westfalen\, Deutschland
GEO:52.13056950;8.68897690
LAST-MODIFIED:20181029T102644Z
X-ACCESS:1
X-HITS:142
X-URL:
X-COLOR:ff892e
END:VEVENT
BEGIN:VEVENT
DTSTART;TZID=Europe/Berlin:20190116T190000
DTEND;TZID=Europe/Berlin:20190116T213000
UID:4965ABDB-6334-4CAA-AEE3-EA63F00CD1BA
SUMMARY:Jahreshauptversammlung
DTSTAMP:20181210T004132Z
DESCRIPTION:
X-ALT-DESC;FMTTYPE=text/html:
LOCATION:Mindener Straße 132\, 32049 Herford\, Nordrhein Westfalen\, Deutschland
GEO:52.13056950;8.68897690
LAST-MODIFIED:20181210T004302Z
X-ACCESS:1
X-HITS:151
X-URL:
X-COLOR:eb1515
END:VEVENT
BEGIN:VEVENT
DTSTART;TZID=Europe/Berlin:20210127T193000
DTEND;TZID=Europe/Berlin:20210127T220000
UID:8EF9866C-5A5E-400C-8FD6-2E05248BCCE2
SUMMARY:Jahreshauptversammlung 2021 - fällt aus
DTSTAMP:20210124T091915Z
DESCRIPTION:Wegen des Lockdowns bis zum (nominell) 14.Feb.21 findet keine Versammlung statt.Geplante Verschiebung in das Frühjahr - z.B. Anfang Mai'21.Roger
X-ALT-DESC;FMTTYPE=text/html:<p>Wegen des Lockdowns bis zum (nominell) 14.Feb.21 findet keine Versammlung statt.<br />Geplante Verschiebung in das Frühjahr - z.B. Anfang Mai'21.<br />Roger</p>
LAST-MODIFIED:20210124T092134Z
X-ACCESS:1
X-HITS:42
X-URL:
X-COLOR:CCC614
END:VEVENT
BEGIN:VEVENT
DTSTART;TZID=Europe/Berlin:20220601T193000
DTEND;TZID=Europe/Berlin:20220601T223000
UID:B645611E-7AFE-47E7-B2E1-D4A846D6C088
SUMMARY:Jahreshauptversammlung
DTSTAMP:20190211T141525Z
DESCRIPTION:
X-ALT-DESC;FMTTYPE=text/html:
LOCATION:Mindener Straße 132\, 32049 Herford\, Nordrhein Westfalen\, Deutschland
GEO:52.13056950;8.68897690
LAST-MODIFIED:20220530T163904Z
X-ACCESS:1
X-HITS:49
X-URL:
X-COLOR:f0d81f
END:VEVENT
BEGIN:VEVENT
DTSTART;TZID=Europe/Berlin:20230419T190000
DTEND;TZID=Europe/Berlin:20230419T220000
UID:EFC04D8F-BC96-446E-A51A-DE0ADB90957C
SUMMARY:Kreisimkerversammlung
DTSTAMP:20230315T233757Z
DESCRIPTION:Die Vorsitzenden und Vereinsvertreter der Vereine treffen sich am 19.04.2023 zur Jahreshauptversammlung des Kreisimkerverein Herford
X-ALT-DESC;FMTTYPE=text/html:<p>Die Vorsitzenden und Vereinsvertreter der Vereine treffen sich am 19.04.2023 zur Jahreshauptversammlung des Kreisimkerverein Herford</p>
LOCATION:Zum Grünen Wald 12\, 32051 Herringhausen\, Nordrhein Westfalen\, Deutschland
GEO:0.00000000;0.00000000
LAST-MODIFIED:20230315T234342Z
X-ACCESS:1
X-HITS:114
X-URL:
X-COLOR:b7eb73
END:VEVENT
BEGIN:VEVENT
DTSTART;TZID=Europe/Berlin:20240306T190000
DTEND;TZID=Europe/Berlin:20240306T220000
UID:F46A60B0-62FB-4842-B8BD-B702F038EA0F
SUMMARY:Kreisimkerversammlung
DTSTAMP:20230315T233757Z
DESCRIPTION:Die Vorsitzenden und Vereinsvertreter der Vereine treffen sich am 19.04.2023 zur Jahreshauptversammlung des Kreisimkerverein Herford
X-ALT-DESC;FMTTYPE=text/html:<p>Die Vorsitzenden und Vereinsvertreter der Vereine treffen sich am 19.04.2023 zur Jahreshauptversammlung des Kreisimkerverein Herford</p>
LAST-MODIFIED:20240114T181219Z
X-ACCESS:1
X-HITS:192
X-URL:
X-COLOR:b7eb73
END:VEVENT
END:VCALENDAR